BEGIN:VCALENDAR
VERSION:2.0
PRODID:-//Familientreffpunkt Sanderau - ECPv6.15.17//NONSGML v1.0//EN
CALSCALE:GREGORIAN
METHOD:PUBLISH
X-WR-CALNAME:Familientreffpunkt Sanderau
X-ORIGINAL-URL:https://www.familientreffpunkt-sanderau.de
X-WR-CALDESC:Veranstaltungen für Familientreffpunkt Sanderau
REFRESH-INTERVAL;VALUE=DURATION:PT1H
X-Robots-Tag:noindex
X-PUBLISHED-TTL:PT1H
BEGIN:VTIMEZONE
TZID:Europe/Berlin
BEGIN:DAYLIGHT
TZOFFSETFROM:+0100
TZOFFSETTO:+0200
TZNAME:CEST
DTSTART:20250330T010000
END:DAYLIGHT
BEGIN:STANDARD
TZOFFSETFROM:+0200
TZOFFSETTO:+0100
TZNAME:CET
DTSTART:20251026T010000
END:STANDARD
BEGIN:DAYLIGHT
TZOFFSETFROM:+0100
TZOFFSETTO:+0200
TZNAME:CEST
DTSTART:20260329T010000
END:DAYLIGHT
BEGIN:STANDARD
TZOFFSETFROM:+0200
TZOFFSETTO:+0100
TZNAME:CET
DTSTART:20261025T010000
END:STANDARD
BEGIN:DAYLIGHT
TZOFFSETFROM:+0100
TZOFFSETTO:+0200
TZNAME:CEST
DTSTART:20270328T010000
END:DAYLIGHT
BEGIN:STANDARD
TZOFFSETFROM:+0200
TZOFFSETTO:+0100
TZNAME:CET
DTSTART:20271031T010000
END:STANDARD
END:VTIMEZONE
BEGIN:VEVENT
DTSTART;TZID=Europe/Berlin:20260427T090000
DTEND;TZID=Europe/Berlin:20260427T110000
DTSTAMP:20260424T132850
CREATED:20251231T102246Z
LAST-MODIFIED:20260321T142621Z
UID:10000525-1777280400-1777287600@www.familientreffpunkt-sanderau.de
SUMMARY:Spielstube
DESCRIPTION:
URL:https://www.familientreffpunkt-sanderau.de/event/spielstube-mo-2/2026-04-27/
LOCATION:Familientreffpunkt Sanderau\, Friedrich-Spee-Straße 32\, 97072 Würzburg\, Deutschland
CATEGORIES:Regelmäßige Veranstaltungen
ATTACH;FMTTYPE=image/jpeg:https://www.familientreffpunkt-sanderau.de/wp-content/uploads/2025/06/948b8dc1f6e886603aae768fd7e3446f.jpg
END:VEVENT
BEGIN:VEVENT
DTSTART;TZID=Europe/Berlin:20260504T090000
DTEND;TZID=Europe/Berlin:20260504T110000
DTSTAMP:20260424T132850
CREATED:20251231T102246Z
LAST-MODIFIED:20260321T142621Z
UID:10000526-1777885200-1777892400@www.familientreffpunkt-sanderau.de
SUMMARY:Spielstube
DESCRIPTION:
URL:https://www.familientreffpunkt-sanderau.de/event/spielstube-mo-2/2026-05-04/
LOCATION:Familientreffpunkt Sanderau\, Friedrich-Spee-Straße 32\, 97072 Würzburg\, Deutschland
CATEGORIES:Regelmäßige Veranstaltungen
ATTACH;FMTTYPE=image/jpeg:https://www.familientreffpunkt-sanderau.de/wp-content/uploads/2025/06/948b8dc1f6e886603aae768fd7e3446f.jpg
END:VEVENT
BEGIN:VEVENT
DTSTART;TZID=Europe/Berlin:20260506T093000
DTEND;TZID=Europe/Berlin:20260506T110000
DTSTAMP:20260424T132850
CREATED:20251005T082331Z
LAST-MODIFIED:20260321T143015Z
UID:10000778-1778059800-1778065200@www.familientreffpunkt-sanderau.de
SUMMARY:Babytreff
DESCRIPTION:
URL:https://www.familientreffpunkt-sanderau.de/event/babytreff-2/2026-05-06/
LOCATION:Familientreffpunkt Sanderau\, Friedrich-Spee-Straße 32\, 97072 Würzburg\, Deutschland
CATEGORIES:Regelmäßige Veranstaltungen
ATTACH;FMTTYPE=image/jpeg:https://www.familientreffpunkt-sanderau.de/wp-content/uploads/2025/06/7d3a7831a4951e996bab6d14c17ba6ea-e1758658925762.jpg
END:VEVENT
BEGIN:VEVENT
DTSTART;TZID=Europe/Berlin:20260508T090000
DTEND;TZID=Europe/Berlin:20260508T103000
DTSTAMP:20260424T132851
CREATED:20260321T140747Z
LAST-MODIFIED:20260410T095851Z
UID:10000816-1778230800-1778236200@www.familientreffpunkt-sanderau.de
SUMMARY:Spiel und Bewegung - ausgebucht
DESCRIPTION:
URL:https://www.familientreffpunkt-sanderau.de/event/spiel-und-bewegung/
CATEGORIES:Einmalige Veranstaltungen
END:VEVENT
BEGIN:VEVENT
DTSTART;TZID=Europe/Berlin:20260508T110000
DTEND;TZID=Europe/Berlin:20260508T123000
DTSTAMP:20260424T132851
CREATED:20260321T141521Z
LAST-MODIFIED:20260321T141521Z
UID:10000817-1778238000-1778243400@www.familientreffpunkt-sanderau.de
SUMMARY:Bewegung in der Schwangerschaft
DESCRIPTION:
URL:https://www.familientreffpunkt-sanderau.de/event/bewegung-in-der-schwangerschaft/
LOCATION:Familientreffpunkt Sanderau\, Friedrich-Spee-Straße 32\, 97072 Würzburg\, Deutschland
CATEGORIES:Einmalige Veranstaltungen
END:VEVENT
BEGIN:VEVENT
DTSTART;TZID=Europe/Berlin:20260511T090000
DTEND;TZID=Europe/Berlin:20260511T110000
DTSTAMP:20260424T132851
CREATED:20251231T102246Z
LAST-MODIFIED:20260321T142621Z
UID:10000527-1778490000-1778497200@www.familientreffpunkt-sanderau.de
SUMMARY:Spielstube
DESCRIPTION:
URL:https://www.familientreffpunkt-sanderau.de/event/spielstube-mo-2/2026-05-11/
LOCATION:Familientreffpunkt Sanderau\, Friedrich-Spee-Straße 32\, 97072 Würzburg\, Deutschland
CATEGORIES:Regelmäßige Veranstaltungen
ATTACH;FMTTYPE=image/jpeg:https://www.familientreffpunkt-sanderau.de/wp-content/uploads/2025/06/948b8dc1f6e886603aae768fd7e3446f.jpg
END:VEVENT
BEGIN:VEVENT
DTSTART;TZID=Europe/Berlin:20260518T090000
DTEND;TZID=Europe/Berlin:20260518T110000
DTSTAMP:20260424T132851
CREATED:20251231T102246Z
LAST-MODIFIED:20260321T142621Z
UID:10000528-1779094800-1779102000@www.familientreffpunkt-sanderau.de
SUMMARY:Spielstube
DESCRIPTION:
URL:https://www.familientreffpunkt-sanderau.de/event/spielstube-mo-2/2026-05-18/
LOCATION:Familientreffpunkt Sanderau\, Friedrich-Spee-Straße 32\, 97072 Würzburg\, Deutschland
CATEGORIES:Regelmäßige Veranstaltungen
ATTACH;FMTTYPE=image/jpeg:https://www.familientreffpunkt-sanderau.de/wp-content/uploads/2025/06/948b8dc1f6e886603aae768fd7e3446f.jpg
END:VEVENT
BEGIN:VEVENT
DTSTART;TZID=Europe/Berlin:20260520T093000
DTEND;TZID=Europe/Berlin:20260520T110000
DTSTAMP:20260424T132851
CREATED:20251005T082331Z
LAST-MODIFIED:20260321T143015Z
UID:10000779-1779269400-1779274800@www.familientreffpunkt-sanderau.de
SUMMARY:Babytreff
DESCRIPTION:
URL:https://www.familientreffpunkt-sanderau.de/event/babytreff-2/2026-05-20/
LOCATION:Familientreffpunkt Sanderau\, Friedrich-Spee-Straße 32\, 97072 Würzburg\, Deutschland
CATEGORIES:Regelmäßige Veranstaltungen
ATTACH;FMTTYPE=image/jpeg:https://www.familientreffpunkt-sanderau.de/wp-content/uploads/2025/06/7d3a7831a4951e996bab6d14c17ba6ea-e1758658925762.jpg
END:VEVENT
BEGIN:VEVENT
DTSTART;TZID=Europe/Berlin:20260520T200000
DTEND;TZID=Europe/Berlin:20260520T213000
DTSTAMP:20260424T132851
CREATED:20251028T073617Z
LAST-MODIFIED:20260321T140201Z
UID:10000812-1779307200-1779312600@www.familientreffpunkt-sanderau.de
SUMMARY:ELTERN.ONLINE
DESCRIPTION:
URL:https://www.familientreffpunkt-sanderau.de/event/adventskranz-binden-copy/2026-05-20/
CATEGORIES:Einmalige Veranstaltungen
ATTACH;FMTTYPE=image/jpeg:https://www.familientreffpunkt-sanderau.de/wp-content/uploads/2025/10/1-online-Bild-HP-e1761637866329.jpg
END:VEVENT
BEGIN:VEVENT
DTSTART;TZID=Europe/Berlin:20260601T090000
DTEND;TZID=Europe/Berlin:20260601T110000
DTSTAMP:20260424T132851
CREATED:20251231T102246Z
LAST-MODIFIED:20260321T142621Z
UID:10000530-1780304400-1780311600@www.familientreffpunkt-sanderau.de
SUMMARY:Spielstube
DESCRIPTION:
URL:https://www.familientreffpunkt-sanderau.de/event/spielstube-mo-2/2026-06-01/
LOCATION:Familientreffpunkt Sanderau\, Friedrich-Spee-Straße 32\, 97072 Würzburg\, Deutschland
CATEGORIES:Regelmäßige Veranstaltungen
ATTACH;FMTTYPE=image/jpeg:https://www.familientreffpunkt-sanderau.de/wp-content/uploads/2025/06/948b8dc1f6e886603aae768fd7e3446f.jpg
END:VEVENT
BEGIN:VEVENT
DTSTART;TZID=Europe/Berlin:20260603T093000
DTEND;TZID=Europe/Berlin:20260603T110000
DTSTAMP:20260424T132851
CREATED:20251005T082331Z
LAST-MODIFIED:20260321T143015Z
UID:10000780-1780479000-1780484400@www.familientreffpunkt-sanderau.de
SUMMARY:Babytreff
DESCRIPTION:
URL:https://www.familientreffpunkt-sanderau.de/event/babytreff-2/2026-06-03/
LOCATION:Familientreffpunkt Sanderau\, Friedrich-Spee-Straße 32\, 97072 Würzburg\, Deutschland
CATEGORIES:Regelmäßige Veranstaltungen
ATTACH;FMTTYPE=image/jpeg:https://www.familientreffpunkt-sanderau.de/wp-content/uploads/2025/06/7d3a7831a4951e996bab6d14c17ba6ea-e1758658925762.jpg
END:VEVENT
BEGIN:VEVENT
DTSTART;TZID=Europe/Berlin:20260608T090000
DTEND;TZID=Europe/Berlin:20260608T110000
DTSTAMP:20260424T132851
CREATED:20251231T102246Z
LAST-MODIFIED:20260321T142621Z
UID:10000531-1780909200-1780916400@www.familientreffpunkt-sanderau.de
SUMMARY:Spielstube
DESCRIPTION:
URL:https://www.familientreffpunkt-sanderau.de/event/spielstube-mo-2/2026-06-08/
LOCATION:Familientreffpunkt Sanderau\, Friedrich-Spee-Straße 32\, 97072 Würzburg\, Deutschland
CATEGORIES:Regelmäßige Veranstaltungen
ATTACH;FMTTYPE=image/jpeg:https://www.familientreffpunkt-sanderau.de/wp-content/uploads/2025/06/948b8dc1f6e886603aae768fd7e3446f.jpg
END:VEVENT
BEGIN:VEVENT
DTSTART;TZID=Europe/Berlin:20260615T090000
DTEND;TZID=Europe/Berlin:20260615T110000
DTSTAMP:20260424T132851
CREATED:20251231T102246Z
LAST-MODIFIED:20260321T142621Z
UID:10000532-1781514000-1781521200@www.familientreffpunkt-sanderau.de
SUMMARY:Spielstube
DESCRIPTION:
URL:https://www.familientreffpunkt-sanderau.de/event/spielstube-mo-2/2026-06-15/
LOCATION:Familientreffpunkt Sanderau\, Friedrich-Spee-Straße 32\, 97072 Würzburg\, Deutschland
CATEGORIES:Regelmäßige Veranstaltungen
ATTACH;FMTTYPE=image/jpeg:https://www.familientreffpunkt-sanderau.de/wp-content/uploads/2025/06/948b8dc1f6e886603aae768fd7e3446f.jpg
END:VEVENT
BEGIN:VEVENT
DTSTART;TZID=Europe/Berlin:20260617T093000
DTEND;TZID=Europe/Berlin:20260617T110000
DTSTAMP:20260424T132851
CREATED:20251005T082331Z
LAST-MODIFIED:20260321T143015Z
UID:10000781-1781688600-1781694000@www.familientreffpunkt-sanderau.de
SUMMARY:Babytreff
DESCRIPTION:
URL:https://www.familientreffpunkt-sanderau.de/event/babytreff-2/2026-06-17/
LOCATION:Familientreffpunkt Sanderau\, Friedrich-Spee-Straße 32\, 97072 Würzburg\, Deutschland
CATEGORIES:Regelmäßige Veranstaltungen
ATTACH;FMTTYPE=image/jpeg:https://www.familientreffpunkt-sanderau.de/wp-content/uploads/2025/06/7d3a7831a4951e996bab6d14c17ba6ea-e1758658925762.jpg
END:VEVENT
BEGIN:VEVENT
DTSTART;TZID=Europe/Berlin:20260617T200000
DTEND;TZID=Europe/Berlin:20260617T213000
DTSTAMP:20260424T132851
CREATED:20251028T073617Z
LAST-MODIFIED:20260321T140201Z
UID:10000813-1781726400-1781731800@www.familientreffpunkt-sanderau.de
SUMMARY:ELTERN.ONLINE
DESCRIPTION:
URL:https://www.familientreffpunkt-sanderau.de/event/adventskranz-binden-copy/2026-06-17/
CATEGORIES:Einmalige Veranstaltungen
ATTACH;FMTTYPE=image/jpeg:https://www.familientreffpunkt-sanderau.de/wp-content/uploads/2025/10/1-online-Bild-HP-e1761637866329.jpg
END:VEVENT
BEGIN:VEVENT
DTSTART;TZID=Europe/Berlin:20260622T090000
DTEND;TZID=Europe/Berlin:20260622T110000
DTSTAMP:20260424T132851
CREATED:20251231T102246Z
LAST-MODIFIED:20260321T142621Z
UID:10000533-1782118800-1782126000@www.familientreffpunkt-sanderau.de
SUMMARY:Spielstube
DESCRIPTION:
URL:https://www.familientreffpunkt-sanderau.de/event/spielstube-mo-2/2026-06-22/
LOCATION:Familientreffpunkt Sanderau\, Friedrich-Spee-Straße 32\, 97072 Würzburg\, Deutschland
CATEGORIES:Regelmäßige Veranstaltungen
ATTACH;FMTTYPE=image/jpeg:https://www.familientreffpunkt-sanderau.de/wp-content/uploads/2025/06/948b8dc1f6e886603aae768fd7e3446f.jpg
END:VEVENT
BEGIN:VEVENT
DTSTART;TZID=Europe/Berlin:20260629T090000
DTEND;TZID=Europe/Berlin:20260629T110000
DTSTAMP:20260424T132851
CREATED:20251231T102246Z
LAST-MODIFIED:20260321T142621Z
UID:10000534-1782723600-1782730800@www.familientreffpunkt-sanderau.de
SUMMARY:Spielstube
DESCRIPTION:
URL:https://www.familientreffpunkt-sanderau.de/event/spielstube-mo-2/2026-06-29/
LOCATION:Familientreffpunkt Sanderau\, Friedrich-Spee-Straße 32\, 97072 Würzburg\, Deutschland
CATEGORIES:Regelmäßige Veranstaltungen
ATTACH;FMTTYPE=image/jpeg:https://www.familientreffpunkt-sanderau.de/wp-content/uploads/2025/06/948b8dc1f6e886603aae768fd7e3446f.jpg
END:VEVENT
BEGIN:VEVENT
DTSTART;TZID=Europe/Berlin:20260701T093000
DTEND;TZID=Europe/Berlin:20260701T110000
DTSTAMP:20260424T132851
CREATED:20251005T082331Z
LAST-MODIFIED:20260321T143015Z
UID:10000782-1782898200-1782903600@www.familientreffpunkt-sanderau.de
SUMMARY:Babytreff
DESCRIPTION:
URL:https://www.familientreffpunkt-sanderau.de/event/babytreff-2/2026-07-01/
LOCATION:Familientreffpunkt Sanderau\, Friedrich-Spee-Straße 32\, 97072 Würzburg\, Deutschland
CATEGORIES:Regelmäßige Veranstaltungen
ATTACH;FMTTYPE=image/jpeg:https://www.familientreffpunkt-sanderau.de/wp-content/uploads/2025/06/7d3a7831a4951e996bab6d14c17ba6ea-e1758658925762.jpg
END:VEVENT
BEGIN:VEVENT
DTSTART;TZID=Europe/Berlin:20260701T200000
DTEND;TZID=Europe/Berlin:20260701T213000
DTSTAMP:20260424T132851
CREATED:20251028T073617Z
LAST-MODIFIED:20260321T140201Z
UID:10000814-1782936000-1782941400@www.familientreffpunkt-sanderau.de
SUMMARY:ELTERN.ONLINE
DESCRIPTION:
URL:https://www.familientreffpunkt-sanderau.de/event/adventskranz-binden-copy/2026-07-01/
CATEGORIES:Einmalige Veranstaltungen
ATTACH;FMTTYPE=image/jpeg:https://www.familientreffpunkt-sanderau.de/wp-content/uploads/2025/10/1-online-Bild-HP-e1761637866329.jpg
END:VEVENT
BEGIN:VEVENT
DTSTART;TZID=Europe/Berlin:20260706T090000
DTEND;TZID=Europe/Berlin:20260706T110000
DTSTAMP:20260424T132851
CREATED:20251231T102246Z
LAST-MODIFIED:20260321T142621Z
UID:10000535-1783328400-1783335600@www.familientreffpunkt-sanderau.de
SUMMARY:Spielstube
DESCRIPTION:
URL:https://www.familientreffpunkt-sanderau.de/event/spielstube-mo-2/2026-07-06/
LOCATION:Familientreffpunkt Sanderau\, Friedrich-Spee-Straße 32\, 97072 Würzburg\, Deutschland
CATEGORIES:Regelmäßige Veranstaltungen
ATTACH;FMTTYPE=image/jpeg:https://www.familientreffpunkt-sanderau.de/wp-content/uploads/2025/06/948b8dc1f6e886603aae768fd7e3446f.jpg
END:VEVENT
BEGIN:VEVENT
DTSTART;TZID=Europe/Berlin:20260713T090000
DTEND;TZID=Europe/Berlin:20260713T110000
DTSTAMP:20260424T132851
CREATED:20251231T102246Z
LAST-MODIFIED:20260321T142621Z
UID:10000536-1783933200-1783940400@www.familientreffpunkt-sanderau.de
SUMMARY:Spielstube
DESCRIPTION:
URL:https://www.familientreffpunkt-sanderau.de/event/spielstube-mo-2/2026-07-13/
LOCATION:Familientreffpunkt Sanderau\, Friedrich-Spee-Straße 32\, 97072 Würzburg\, Deutschland
CATEGORIES:Regelmäßige Veranstaltungen
ATTACH;FMTTYPE=image/jpeg:https://www.familientreffpunkt-sanderau.de/wp-content/uploads/2025/06/948b8dc1f6e886603aae768fd7e3446f.jpg
END:VEVENT
BEGIN:VEVENT
DTSTART;TZID=Europe/Berlin:20260715T093000
DTEND;TZID=Europe/Berlin:20260715T110000
DTSTAMP:20260424T132851
CREATED:20251005T082331Z
LAST-MODIFIED:20260321T143015Z
UID:10000783-1784107800-1784113200@www.familientreffpunkt-sanderau.de
SUMMARY:Babytreff
DESCRIPTION:
URL:https://www.familientreffpunkt-sanderau.de/event/babytreff-2/2026-07-15/
LOCATION:Familientreffpunkt Sanderau\, Friedrich-Spee-Straße 32\, 97072 Würzburg\, Deutschland
CATEGORIES:Regelmäßige Veranstaltungen
ATTACH;FMTTYPE=image/jpeg:https://www.familientreffpunkt-sanderau.de/wp-content/uploads/2025/06/7d3a7831a4951e996bab6d14c17ba6ea-e1758658925762.jpg
END:VEVENT
BEGIN:VEVENT
DTSTART;TZID=Europe/Berlin:20260720T090000
DTEND;TZID=Europe/Berlin:20260720T110000
DTSTAMP:20260424T132851
CREATED:20251231T102246Z
LAST-MODIFIED:20260321T142621Z
UID:10000537-1784538000-1784545200@www.familientreffpunkt-sanderau.de
SUMMARY:Spielstube
DESCRIPTION:
URL:https://www.familientreffpunkt-sanderau.de/event/spielstube-mo-2/2026-07-20/
LOCATION:Familientreffpunkt Sanderau\, Friedrich-Spee-Straße 32\, 97072 Würzburg\, Deutschland
CATEGORIES:Regelmäßige Veranstaltungen
ATTACH;FMTTYPE=image/jpeg:https://www.familientreffpunkt-sanderau.de/wp-content/uploads/2025/06/948b8dc1f6e886603aae768fd7e3446f.jpg
END:VEVENT
BEGIN:VEVENT
DTSTART;TZID=Europe/Berlin:20260722T200000
DTEND;TZID=Europe/Berlin:20260722T213000
DTSTAMP:20260424T132851
CREATED:20251028T073617Z
LAST-MODIFIED:20260321T140201Z
UID:10000815-1784750400-1784755800@www.familientreffpunkt-sanderau.de
SUMMARY:ELTERN.ONLINE
DESCRIPTION:
URL:https://www.familientreffpunkt-sanderau.de/event/adventskranz-binden-copy/2026-07-22/
CATEGORIES:Einmalige Veranstaltungen
ATTACH;FMTTYPE=image/jpeg:https://www.familientreffpunkt-sanderau.de/wp-content/uploads/2025/10/1-online-Bild-HP-e1761637866329.jpg
END:VEVENT
BEGIN:VEVENT
DTSTART;TZID=Europe/Berlin:20260727T090000
DTEND;TZID=Europe/Berlin:20260727T110000
DTSTAMP:20260424T132851
CREATED:20251231T102246Z
LAST-MODIFIED:20260321T142621Z
UID:10000538-1785142800-1785150000@www.familientreffpunkt-sanderau.de
SUMMARY:Spielstube
DESCRIPTION:
URL:https://www.familientreffpunkt-sanderau.de/event/spielstube-mo-2/2026-07-27/
LOCATION:Familientreffpunkt Sanderau\, Friedrich-Spee-Straße 32\, 97072 Würzburg\, Deutschland
CATEGORIES:Regelmäßige Veranstaltungen
ATTACH;FMTTYPE=image/jpeg:https://www.familientreffpunkt-sanderau.de/wp-content/uploads/2025/06/948b8dc1f6e886603aae768fd7e3446f.jpg
END:VEVENT
BEGIN:VEVENT
DTSTART;TZID=Europe/Berlin:20260803T090000
DTEND;TZID=Europe/Berlin:20260803T110000
DTSTAMP:20260424T132851
CREATED:20251231T102246Z
LAST-MODIFIED:20260321T142621Z
UID:10000539-1785747600-1785754800@www.familientreffpunkt-sanderau.de
SUMMARY:Spielstube
DESCRIPTION:
URL:https://www.familientreffpunkt-sanderau.de/event/spielstube-mo-2/2026-08-03/
LOCATION:Familientreffpunkt Sanderau\, Friedrich-Spee-Straße 32\, 97072 Würzburg\, Deutschland
CATEGORIES:Regelmäßige Veranstaltungen
ATTACH;FMTTYPE=image/jpeg:https://www.familientreffpunkt-sanderau.de/wp-content/uploads/2025/06/948b8dc1f6e886603aae768fd7e3446f.jpg
END:VEVENT
BEGIN:VEVENT
DTSTART;TZID=Europe/Berlin:20260805T093000
DTEND;TZID=Europe/Berlin:20260805T110000
DTSTAMP:20260424T132852
CREATED:20251005T082331Z
LAST-MODIFIED:20260321T143015Z
UID:10000784-1785922200-1785927600@www.familientreffpunkt-sanderau.de
SUMMARY:Babytreff
DESCRIPTION:
URL:https://www.familientreffpunkt-sanderau.de/event/babytreff-2/2026-08-05/
LOCATION:Familientreffpunkt Sanderau\, Friedrich-Spee-Straße 32\, 97072 Würzburg\, Deutschland
CATEGORIES:Regelmäßige Veranstaltungen
ATTACH;FMTTYPE=image/jpeg:https://www.familientreffpunkt-sanderau.de/wp-content/uploads/2025/06/7d3a7831a4951e996bab6d14c17ba6ea-e1758658925762.jpg
END:VEVENT
BEGIN:VEVENT
DTSTART;TZID=Europe/Berlin:20260810T090000
DTEND;TZID=Europe/Berlin:20260810T110000
DTSTAMP:20260424T132852
CREATED:20251231T102246Z
LAST-MODIFIED:20260321T142621Z
UID:10000540-1786352400-1786359600@www.familientreffpunkt-sanderau.de
SUMMARY:Spielstube
DESCRIPTION:
URL:https://www.familientreffpunkt-sanderau.de/event/spielstube-mo-2/2026-08-10/
LOCATION:Familientreffpunkt Sanderau\, Friedrich-Spee-Straße 32\, 97072 Würzburg\, Deutschland
CATEGORIES:Regelmäßige Veranstaltungen
ATTACH;FMTTYPE=image/jpeg:https://www.familientreffpunkt-sanderau.de/wp-content/uploads/2025/06/948b8dc1f6e886603aae768fd7e3446f.jpg
END:VEVENT
BEGIN:VEVENT
DTSTART;TZID=Europe/Berlin:20260817T090000
DTEND;TZID=Europe/Berlin:20260817T110000
DTSTAMP:20260424T132852
CREATED:20251231T102246Z
LAST-MODIFIED:20260321T142621Z
UID:10000541-1786957200-1786964400@www.familientreffpunkt-sanderau.de
SUMMARY:Spielstube
DESCRIPTION:
URL:https://www.familientreffpunkt-sanderau.de/event/spielstube-mo-2/2026-08-17/
LOCATION:Familientreffpunkt Sanderau\, Friedrich-Spee-Straße 32\, 97072 Würzburg\, Deutschland
CATEGORIES:Regelmäßige Veranstaltungen
ATTACH;FMTTYPE=image/jpeg:https://www.familientreffpunkt-sanderau.de/wp-content/uploads/2025/06/948b8dc1f6e886603aae768fd7e3446f.jpg
END:VEVENT
BEGIN:VEVENT
DTSTART;TZID=Europe/Berlin:20260819T093000
DTEND;TZID=Europe/Berlin:20260819T110000
DTSTAMP:20260424T132852
CREATED:20251005T082331Z
LAST-MODIFIED:20260321T143015Z
UID:10000785-1787131800-1787137200@www.familientreffpunkt-sanderau.de
SUMMARY:Babytreff
DESCRIPTION:
URL:https://www.familientreffpunkt-sanderau.de/event/babytreff-2/2026-08-19/
LOCATION:Familientreffpunkt Sanderau\, Friedrich-Spee-Straße 32\, 97072 Würzburg\, Deutschland
CATEGORIES:Regelmäßige Veranstaltungen
ATTACH;FMTTYPE=image/jpeg:https://www.familientreffpunkt-sanderau.de/wp-content/uploads/2025/06/7d3a7831a4951e996bab6d14c17ba6ea-e1758658925762.jpg
END:VEVENT
END:VCALENDAR